BEGIN:VCALENDAR
VERSION:2.0
PRODID:-//wp-events-plugin.com//7.0.4//EN
BEGIN:VEVENT
UID:566@beyrouth-accueil.com
DTSTART;TZID=Asia/Beirut:20260425T103000
DTEND;TZID=Asia/Beirut:20260425T113000
DTSTAMP:20260114T141851Z
URL:https://beyrouth-accueil.com/events/session-padel-avec-coach-2026-04-2
 5/
SUMMARY:Session Padel avec coach
DESCRIPTION:Chères adhérentes\, chers adhérents\,\nNous vous proposons u
 ne heure de pratique du Padel sur courts couverts à Beyrouth avec coach J
 ad.\nCe sera une occasion d'améliorer son jeu\, les techniques\, les posi
 tionnements et situations de jeu.\nRendez- vous à the Padelist à Achrafi
 eh.\nTous les samedis de 10h00 à 11h30 pour 12 personnes\n1 court de 10h 
 à 11h30\n1 court de 10h à 11h\n1 court de 11h à 12h\nNB : Pour l'inscri
 ption\, merci de contacter Carole au 81 180 845 !\nTarif/pers sur la base 
 de 4pers/court : 11 USD à régler sur place.\nCe tarif inclut le court et
  le coach.\nLa location de raquette est en supplément.\nParking sur place
 \nNous vous espérons nombreuses et nombreux pour ce moment sportif &amp
 \; fun !\nAu plaisir de vous revoir et de partager un moment ensemble.\nA 
 bientôt !\nle comité de Beyrouth Accueil
ATTACH;FMTTYPE=image/jpeg:https://beyrouth-accueil.com/wp-content/uploads/
 2024/01/padel_wilson_1-min-2-1-scaled.jpg
CATEGORIES:Loisirs,Sport et nature
LOCATION:https://maps.app.goo.gl/WXifeioD1EURRih47
END:VEVENT
BEGIN:VTIMEZONE
TZID:Asia/Beirut
X-LIC-LOCATION:Asia/Beirut
BEGIN:DAYLIGHT
DTSTART:20260329T010000
TZOFFSETFROM:+0200
TZOFFSETTO:+0300
TZNAME:EEST
END:DAYLIGHT
END:VTIMEZONE
END:VCALENDAR