BEGIN:VCALENDAR
VERSION:2.0
PRODID:-//wp-events-plugin.com//7.0.4//EN
BEGIN:VEVENT
UID:83@beyrouth-accueil.com
DTSTART;TZID=Asia/Beirut:20240920T100000
DTEND;TZID=Asia/Beirut:20240920T123000
DTSTAMP:20240828T121616Z
URL:https://beyrouth-accueil.com/events/permanence-inscription-information
 -vendredi-20-septembre/
SUMMARY:Permanence Inscription & Information Vendredi 20 septembre
DESCRIPTION:Chères adhérentes\, chers adhérents\,\n\nNous avons le plais
 ir de vous retrouver pour faciliter votre inscription pour la nouvelle sai
 son 2024/2025 \n\nlors d'une permanence devant la médiathèque de l'insti
 tut français \n\nle vendredi 20 septembre  de 10h à 12h30\n\nNB : Pré
 voir une pièce d'identité pour accéder au Campus\n\nVotre adhésion à 
 Beyrouth Accueil:\nLe mois de septembre est le moment d’adhérer ou de r
 enouveler votre adhésion pour l’année 2024/2025. Le tarif est de 50 do
 llars par an et par famille.\nLe règlement en espèces se fera auprès de
  notre trésorier Mario\, ou d’un membre du comité à l'occasion des pr
 emières activités de septembre et lors de nos permanences.\nPensez à re
 nouveler votre adhésion dès les premières activités.\nCette permanence
  vous permettra de vous inscrire mais aussi d'échanger sur nos activités
  à venir. Si vous avez des propositions d'animations\, d'ateliers\, n'hé
 sitez pas à nous en parler.\n\nAu plaisir de vous revoir ou de vous renco
 ntrer\,\n\nLe comité de Beyrouth Accueil
CATEGORIES:Accueils et convivialité
LOCATION:https://maps.app.goo.gl/Sqopq8Jpu1SP666Q6
END:VEVENT
BEGIN:VTIMEZONE
TZID:Asia/Beirut
X-LIC-LOCATION:Asia/Beirut
BEGIN:DAYLIGHT
DTSTART:20240331T010000
TZOFFSETFROM:+0200
TZOFFSETTO:+0300
TZNAME:EEST
END:DAYLIGHT
END:VTIMEZONE
END:VCALENDAR