BEGIN:VCALENDAR
VERSION:2.0
PRODID:-//wp-events-plugin.com//7.0.4//EN
BEGIN:VEVENT
UID:207@beyrouth-accueil.com
DTSTART;TZID=Asia/Beirut:20250919T100000
DTEND;TZID=Asia/Beirut:20250919T123000
DTSTAMP:20250804T102157Z
URL:https://beyrouth-accueil.com/events/permanence-inscription-information
 -vendredi-19-septembre/
SUMMARY:Permanence Inscription & Information Vendredi 19 septembre
DESCRIPTION:Chères adhérentes\, chers adhérents\,\nNous avons le plaisir
  de vous retrouver pour faciliter votre inscription pour la nouvelle saiso
 n 2025/2026\nlors d'une permanence devant la médiathèque de l'institut f
 rançais \nle vendredi 19 septembre de 10h à 12h30\nNB : Prévoir une pi
 èce d'identité pour accéder au Campus\nVotre adhésion à Beyrouth Accu
 eil :\nLe mois de septembre est le moment d’adhérer ou de renouveler vo
 tre adhésion pour l’année 2025/2026. Le tarif est de 50 dollars par an
  et par famille.\nLe règlement en espèces se fera auprès de notre trés
 orière Marie ou d’un membre du comité à l'occasion des premières act
 ivités de septembre et lors de nos permanences.\nPensez à renouveler vot
 re adhésion dès les premières activités.\nCette permanence vous permet
 tra de vous inscrire mais aussi d'échanger sur nos activités à venir. S
 i vous avez des propositions d'animations\, d'ateliers\, n'hésitez pas à
  nous en parler.\nAu plaisir de vous revoir ou de vous rencontrer\,\nLe co
 mité de Beyrouth Accueil
ATTACH;FMTTYPE=image/jpeg:https://beyrouth-accueil.com/wp-content/uploads/
 2025/07/IMG_5133.jpg
CATEGORIES:Accueils et convivialité
LOCATION:https://maps.app.goo.gl/Sqopq8Jpu1SP666Q6
END:VEVENT
BEGIN:VTIMEZONE
TZID:Asia/Beirut
X-LIC-LOCATION:Asia/Beirut
BEGIN:DAYLIGHT
DTSTART:20250330T010000
TZOFFSETFROM:+0200
TZOFFSETTO:+0300
TZNAME:EEST
END:DAYLIGHT
END:VTIMEZONE
END:VCALENDAR