BEGIN:VCALENDAR
VERSION:2.0
PRODID:-//wp-events-plugin.com//7.0.4//EN
BEGIN:VEVENT
UID:86@beyrouth-accueil.com
DTSTART;TZID=Asia/Beirut:20240926T133000
DTEND;TZID=Asia/Beirut:20240926T160000
DTSTAMP:20240828T121532Z
URL:https://beyrouth-accueil.com/events/permanence-inscription-information
 -jeudi-26-septembre/
SUMMARY:Permanence Inscription & Information Jeudi 26 septembre
DESCRIPTION:Chères adhérentes\, chers adhérents\,\n\nNous avons le plais
 ir de vous retrouver pour faciliter votre inscription pour la nouvelle sai
 son 2024/2025 \n\nlors d'une permanence devant la médiathèque de l'insti
 tut français \n\nle jeudi 26 septembre  de 13h30 à 16h00\n\nNB : Prév
 oir une pièce d'identité pour accéder au Campus\n\nVotre adhésion à B
 eyrouth Accueil:\nLe mois de septembre est le moment d’adhérer ou de re
 nouveler votre adhésion pour l’année 2024/2025. Le tarif est de 50 dol
 lars par an et par famille.\nLe règlement en espèces se fera auprès de 
 notre trésorier Mario\, ou d’un membre du comité à l'occasion des pre
 mières activités de septembre et lors de nos permanences.\nPensez à ren
 ouveler votre adhésion dès les premières activités.\nCette permanence 
 vous permettra de vous inscrire mais aussi d'échanger sur nos activités 
 à venir. Si vous avez des propositions d'animations\, d'ateliers\, n'hés
 itez pas à nous en parler.\n\nAu plaisir de vous revoir ou de vous rencon
 trer\,\n\nLe comité de Beyrouth Accueil
CATEGORIES:Accueils et convivialité
LOCATION:https://maps.app.goo.gl/r72krY4BzeRwpfk27
END:VEVENT
BEGIN:VTIMEZONE
TZID:Asia/Beirut
X-LIC-LOCATION:Asia/Beirut
BEGIN:DAYLIGHT
DTSTART:20240331T010000
TZOFFSETFROM:+0200
TZOFFSETTO:+0300
TZNAME:EEST
END:DAYLIGHT
END:VTIMEZONE
END:VCALENDAR