BEGIN:VCALENDAR
VERSION:2.0
PRODID:-//wp-events-plugin.com//7.0.4//EN
BEGIN:VEVENT
UID:254@beyrouth-accueil.com
DTSTART;TZID=Asia/Beirut:20260514T100000
DTEND;TZID=Asia/Beirut:20260514T110000
DTSTAMP:20251210T161753Z
URL:https://beyrouth-accueil.com/events/padel-3-2026-05-14/
SUMMARY:Padel
DESCRIPTION:Chères adhérentes\, chers adhérents\,\nNous vous proposons u
 ne heure de pratique du Padel sur courts couverts à Beyrouth à\nthe Pade
 list à Achrafieh.\nTous les jeudis de 10h à 11h.\nPour vous inscrire\, m
 erci de contacter\npar Whatsapp\nCarole  au 81 180 845 \nTarif/pers sur 
 la base de 4 pers : 7 USD à régler sur place.\nLa location de raquette e
 st en supplément.\nParking sur place\nNous vous espérons nombreuses et 
 nombreux pour ce moment sportif &amp\; fun !\nAu plaisir de vous revoir e
 t de partager un moment ensemble.\nA bientôt !\nle comité de Beyrouth Ac
 cueil
ATTACH;FMTTYPE=image/jpeg:https://beyrouth-accueil.com/wp-content/uploads/
 2024/01/padel-6322458_1280.jpg
CATEGORIES:Loisirs
LOCATION:https://maps.app.goo.gl/XoLVGmfod4TDvcAA9
END:VEVENT
BEGIN:VTIMEZONE
TZID:Asia/Beirut
X-LIC-LOCATION:Asia/Beirut
BEGIN:DAYLIGHT
DTSTART:20260329T010000
TZOFFSETFROM:+0200
TZOFFSETTO:+0300
TZNAME:EEST
END:DAYLIGHT
END:VTIMEZONE
END:VCALENDAR