BEGIN:VCALENDAR
VERSION:2.0
PRODID:-//wp-events-plugin.com//7.0.4//EN
BEGIN:VEVENT
UID:533@beyrouth-accueil.com
DTSTART;TZID=Asia/Beirut:20251219T110000
DTEND;TZID=Asia/Beirut:20260101T110000
DTSTAMP:20251219T093513Z
URL:https://beyrouth-accueil.com/events/joyeuses-fetes-de-fin-dannee/
SUMMARY:Joyeuses Fêtes de fin d'année
DESCRIPTION:
ATTACH;FMTTYPE=image/jpeg:https://beyrouth-accueil.com/wp-content/uploads/
 2025/12/Carte-de-Noel-Fetes-Commerciale-Classe-et-Elegante-Illustrations-D
 ecoratives-Etincelantes-en-Vert-et-Dore.png
CATEGORIES:Les rendez-vous annuels
END:VEVENT
BEGIN:VTIMEZONE
TZID:Asia/Beirut
X-LIC-LOCATION:Asia/Beirut
BEGIN:STANDARD
DTSTART:20251025T230000
TZOFFSETFROM:+0300
TZOFFSETTO:+0200
TZNAME:EET
END:STANDARD
END:VTIMEZONE
END:VCALENDAR