BEGIN:VCALENDAR
VERSION:2.0
PRODID:-//wp-events-plugin.com//7.0.4//EN
BEGIN:VEVENT
UID:293@beyrouth-accueil.com
DTSTART;TZID=Asia/Beirut:20251210T000000
DTEND;TZID=Asia/Beirut:20260201T000000
DTSTAMP:20251210T153032Z
URL:https://beyrouth-accueil.com/events/donations-au-soutien-scolaire-de-d
 lr-lebanon/
SUMMARY:Donations au soutien scolaire de DLR Lebanon
DESCRIPTION:Chères adhérentes chers adhérents\,\n\nÀ l’occasion de ce
 tte période de fêtes et de solidarité\, nous avons choisi de soutenir u
 n des projets de\n\nDialogue de la vie et de la réconciliation (@DLR Leba
 non)\,\n\nune association remarquable qui œuvre depuis 2010 pour promouvo
 ir le dialogue interculturel.\n\nCe projet a été créée à la suite de 
 l’explosion du port de Beyrouth\, DLR Lebanon s’est donné pour obje
 ctif de contribuer à offrir un soutien scolaire pour les enfants les plus
  vulnérable.  En 5 ans\, plus de 200 enfants ont pu bénéficier de cet 
 accompagnement\, 97% d'entre eux ont vu une progression très significativ
 e de leur résultat. L’association intervient auprès des enfants les pl
 us défavorisés scolarisés aux quatre coins du Liban.\n\nDLR Lebanon agi
 t sur plusieurs fronts :\n•  Un soutien académique du primaire au lyc
 ée pour lutter contre la déscolarisation malgré un contexte difficile.\
 n•  Un modèle solidaire unique : les tuteurs sont des étudiants. Ce s
 ystème permet non seulement de soutenir les enfants\, mais aussi d’aide
 r ces étudiants à poursuivre leurs propres études.\n•  Un pont entre
  les communautés : l’objectif de l’association est de promouvoir un e
 sprit de solidarité\, d’entraide et de partage.\n\nNous vous proposons 
 de participer à cette belle initiative en offrant des heures de cours à 
 ces enfants. Un geste simple\, mais qui a un impact immense : permettre à
  un enfant de rester scolarisé\, de progresser et de construire un avenir
  meilleur.\n\nChaque bon à une valeur de 10$ pour 1h de cours \n\nVous p
 ourrez effectuer vos dons lors de nos activités :\n\n 	durant le mois de 
 janvier\n 	ou via Whish money\nSoit sur l'application Whish money ou bouti
 que Whish. au nom du bénéficiaire Marie Brisson\, notre trésorière\, 
 Tel + 961 76 505 301\nUne fois le paiement effectué\, merci d'envoyer vot
 re reçu par WhatsApp à Marie au +33 7 80 96 47 53\nNB : sans preuve de p
 aiement\, votre don ne pourra pas être réceptionné.\n\n\nEn cette péri
 ode de générosité\, nous vous remercions pour votre engagement et votre
  solidarité.\nChaleureusement\,\n\nL’équipe de Beyrouth Accueil
ATTACH;FMTTYPE=image/jpeg:https://beyrouth-accueil.com/wp-content/uploads/
 2025/12/Bon-pour-1h-de-cours-.jpeg
CATEGORIES:Les rendez-vous annuels
END:VEVENT
BEGIN:VTIMEZONE
TZID:Asia/Beirut
X-LIC-LOCATION:Asia/Beirut
BEGIN:STANDARD
DTSTART:20251025T230000
TZOFFSETFROM:+0300
TZOFFSETTO:+0200
TZNAME:EET
END:STANDARD
END:VTIMEZONE
END:VCALENDAR