BEGIN:VCALENDAR
VERSION:2.0
PRODID:-//wp-events-plugin.com//7.0.4//EN
BEGIN:VEVENT
UID:571@beyrouth-accueil.com
DTSTART;TZID=Asia/Beirut:20260128T110000
DTEND;TZID=Asia/Beirut:20260301T110000
DTSTAMP:20260128T151853Z
URL:https://beyrouth-accueil.com/events/devenez-benevoles/
SUMMARY:Devenez bénévoles !
DESCRIPTION:Devenez Bénévoles !\nEnvie de vous engager\, de faire de bell
 es rencontres et de participer à la vie de la communauté d'expatriés fr
 ancophones à Beyrouth?\nBeyrouth accueil recherche des bénévoles pour r
 ejoindre son comité ou pour simplement etre membre actif !\n\nBeyrouth ac
 cueil\, c'est avant tout une équipe de personnes enthousiastes qui aiment
  accueillir\, partager et créer du lien. Pour continuer à faire vivre l'
 association\, nous avons besoin de vous !\n\nPourquoi nous rejoindre ?\n\n
 . Participer à une aventure humaine et solidaire\n\n. Prendre part à l'o
 rganisation d'activités culturelles\, sociales et conviviales\n\n. Parta
 ger vos compétences et en développer de nouvelles\n\n. Rejoindre une éq
 uipe dynamique et engagée\n\nToute personne motivée\, disponible même q
 uelques heures et désireuse de s'engager est la bienvenue.\n\nPas besoin 
 de d'expérience particulière : motivation\, envie de s'impliquer et espr
 it d'équipe suffisent.\n\nQue vous soyez disponible ponctuellement ou plu
 s régulièrement\, votre aide sera précieuse.\n\nVous pouvez nous contac
 ter par mail :beyrouthaccueil@gmail.com\nou par whatsapp au numéro : +33 
 6 09 34 09 23\n\nLe Comité Beyrouth Accueil\n\n&nbsp\;\n\n&nbsp\;
ATTACH;FMTTYPE=image/jpeg:https://beyrouth-accueil.com/wp-content/uploads/
 2026/01/PHOTO-2026-01-23-17-49-46-2.jpg
CATEGORIES:Accueils et convivialité
END:VEVENT
BEGIN:VTIMEZONE
TZID:Asia/Beirut
X-LIC-LOCATION:Asia/Beirut
BEGIN:STANDARD
DTSTART:20251025T230000
TZOFFSETFROM:+0300
TZOFFSETTO:+0200
TZNAME:EET
END:STANDARD
END:VTIMEZONE
END:VCALENDAR