BEGIN:VCALENDAR
VERSION:2.0
PRODID:-//wp-events-plugin.com//7.0.4//EN
BEGIN:VEVENT
UID:212@beyrouth-accueil.com
DTSTART;TZID=Asia/Beirut:20250930T163000
DTEND;TZID=Asia/Beirut:20250930T183000
DTSTAMP:20250906T161433Z
URL:https://beyrouth-accueil.com/events/club-de-lecture-a-lifl-mardi-30-se
 ptembre-2025/
SUMMARY:Club de lecture à l'IFL - mardi 30 septembre 2025
DESCRIPTION:&nbsp\;\n\n\n\n\nChères toutes\, chers tous\,\nRejoignez l’a
 telier lecture proposé par la médiathèque de l’Institut français du 
 Liban\, \net animé par Antoine Boulad\, poète et professionnel du monde 
 du livre. \nVoici le livre proposé ce mois-ci :\nL'homme qui voulut voir 
 par lui-même\, de Percy Kemp\nQue vous l'ayez lu ou non\, participez aux 
 échanges autour du sujet\, de l'intrigue et de l'auteur.\nEntrée libre. 
 \nRenseignements : mediatheque.beyrouth@if-liban.com – Tél : 01420257 
 – WhatsApp : 70559824\nA titre informatif\, voici les 2 prochaines dates
  du club de lecture et les ouvrages proposés :\n- mardi 28 octobre à 16h
 30 : Le Labyrinthe des égarés (l'Occident et ses adversaires)\, d'Amin M
 aalouf\n- mardi 25 novembre à 16h30 : Implosions\, de Hyam Yared\nAu plai
 sir de vous y retrouver pour un riche moment littéraire !\nA bientôt !\n
 Le comité de Beyrouth Accueil\n\n\n\n\n&nbsp\;
ATTACH;FMTTYPE=image/jpeg:https://beyrouth-accueil.com/wp-content/uploads/
 2025/09/article-1741949511.jpg
CATEGORIES:Loisirs
LOCATION:https://share.google/eXMIOW2viTZpENTBu
END:VEVENT
BEGIN:VTIMEZONE
TZID:Asia/Beirut
X-LIC-LOCATION:Asia/Beirut
BEGIN:DAYLIGHT
DTSTART:20250330T010000
TZOFFSETFROM:+0200
TZOFFSETTO:+0300
TZNAME:EEST
END:DAYLIGHT
END:VTIMEZONE
END:VCALENDAR