BEGIN:VCALENDAR
VERSION:2.0
PRODID:-//wp-events-plugin.com//7.0.4//EN
BEGIN:VEVENT
UID:213@beyrouth-accueil.com
DTSTART;TZID=Asia/Beirut:20251028T163000
DTEND;TZID=Asia/Beirut:20251028T183000
DTSTAMP:20250906T175526Z
URL:https://beyrouth-accueil.com/events/club-de-lecture-a-lifl-mardi-28-oc
 tobre-2025/
SUMMARY:Club de lecture à l'IFL - mardi 28 octobre 2025
DESCRIPTION:&nbsp\;\n\n\n\n\nChères toutes\, chers tous\,\nRejoignez l’a
 telier lecture proposé par la médiathèque de l’Institut français du 
 Liban\, \net animé par Antoine Boulad\, poète et professionnel du monde 
 du livre. \nVoici le livre proposé ce mois-ci :\nLe Labyrinthe des égar
 és (l’Occident et ses adversaires)\, d’Amin Maalouf\nQue vous l'ayez 
 lu ou non\, participez aux échanges autour du sujet\, de l'intrigue et de
  l'auteur.\nEntrée libre. \nRenseignements : mediatheque.beyrouth@if-liba
 n.com – Tél : 01420257 – WhatsApp : 70559824\nA titre informatif\, vo
 ici la prochaine date du club de lecture et les ouvrages proposés :\n- ma
 rdi 25 novembre à 16h30 : Implosions\, de Hyam Yared\nAu plaisir de vous 
 y retrouver pour un riche moment littéraire !\nA bientôt !\nLe comité d
 e Beyrouth Accueil\n\n\n\n\n&nbsp\;
ATTACH;FMTTYPE=image/jpeg:https://beyrouth-accueil.com/wp-content/uploads/
 2025/09/9782246830436-001-X1.webp
CATEGORIES:Loisirs
LOCATION:https://share.google/eXMIOW2viTZpENTBu
END:VEVENT
BEGIN:VTIMEZONE
TZID:Asia/Beirut
X-LIC-LOCATION:Asia/Beirut
BEGIN:STANDARD
DTSTART:20251025T230000
TZOFFSETFROM:+0300
TZOFFSETTO:+0200
TZNAME:EET
END:STANDARD
END:VTIMEZONE
END:VCALENDAR