BEGIN:VCALENDAR
VERSION:2.0
PRODID:-//wp-events-plugin.com//7.0.4//EN
BEGIN:VEVENT
UID:214@beyrouth-accueil.com
DTSTART;TZID=Asia/Beirut:20251125T163000
DTEND;TZID=Asia/Beirut:20251125T183000
DTSTAMP:20250906T161524Z
URL:https://beyrouth-accueil.com/events/club-de-lecture-a-lifl-mardi-25-no
 vembre-2025/
SUMMARY:Club de lecture à l'IFL - mardi 25 novembre 2025
DESCRIPTION:&nbsp\;\n\n\n\n\nChères toutes\, chers tous\,\nRejoignez l’a
 telier lecture proposé par la médiathèque de l’Institut français du 
 Liban\, \net animé par Antoine Boulad\, poète et professionnel du monde 
 du livre. \nVoici le livre proposé ce mois-ci :\nImplosions\, de Hyam Yar
 ed\nQue vous l'ayez lu ou non\, participez aux échanges autour du sujet\,
  de l'intrigue et de l'auteur.\nEntrée libre. \nRenseignements : mediathe
 que.beyrouth@if-liban.com – Tél : 01420257 – WhatsApp : 70559824\nNou
 s vous communiquerons les prochaines dates et lectures dès que possible.\
 n\nAu plaisir de vous y retrouver pour un riche moment littéraire !\n\nA 
 bientôt !\n\nLe comité de Beyrouth Accueil\n\n\n\n&nbsp\;
ATTACH;FMTTYPE=image/jpeg:https://beyrouth-accueil.com/wp-content/uploads/
 2025/09/487952686_10171261377140002_1678104880731200071_n.jpg
CATEGORIES:Loisirs
LOCATION:https://share.google/eXMIOW2viTZpENTBu
END:VEVENT
BEGIN:VTIMEZONE
TZID:Asia/Beirut
X-LIC-LOCATION:Asia/Beirut
BEGIN:STANDARD
DTSTART:20251025T230000
TZOFFSETFROM:+0300
TZOFFSETTO:+0200
TZNAME:EET
END:STANDARD
END:VTIMEZONE
END:VCALENDAR