BEGIN:VCALENDAR
VERSION:2.0
PRODID:-//wp-events-plugin.com//7.0.4//EN
BEGIN:VEVENT
UID:81@beyrouth-accueil.com
DTSTART;TZID=Asia/Beirut:20240912T100000
DTEND;TZID=Asia/Beirut:20240912T120000
DTSTAMP:20240825T161006Z
URL:https://beyrouth-accueil.com/events/cafe-nouveaux-arrivants/
SUMMARY:Café d'accueil Nouveaux Arrivants - Jeudi 12 septembre
DESCRIPTION:\n\n\n\nChères toutes\, chers tous\,\nVous venez d’arriver 
 à Beyrouth ? Besoin d’informations ou de conseils pratiques pour vous a
 ider à prendre vos marques ? Venez nous retrouver autour d’un café pou
 r partager et échanger !\nNous avons le plaisir d'organiser une rencontr
 e pour les nouveaux arrivants à Beyrouth et de vous inviter à un café\n
  le jeudi 12 septembre à partir de 10 heures\npour échanger et partager
  un moment ensemble.\nNous vous espérons nombreuses et nombreux pour ce C
 afé d'accueil !\nCe café d'accueil est exclusivement réservé aux nouve
 aux arrivants.\nPour vous inscrire\, vous pouvez nous envoyer un email à 
 :\nbeyrouthaccueil@gmail.com\nou nous contacter par téléphone via WhatsA
 pp au :\n+961 81 180 845\nAu plaisir de vous rencontrer et de partager un 
 moment ensemble lors de ce Café-Rencontres!\nA bientôt !\nLe comité de 
 Beyrouth Accueil\n\n\n\n
ATTACH;FMTTYPE=image/jpeg:https://beyrouth-accueil.com/wp-content/uploads/
 2024/08/tasse-cafe.jpg
CATEGORIES:Accueils et convivialité
END:VEVENT
BEGIN:VTIMEZONE
TZID:Asia/Beirut
X-LIC-LOCATION:Asia/Beirut
BEGIN:DAYLIGHT
DTSTART:20240331T010000
TZOFFSETFROM:+0200
TZOFFSETTO:+0300
TZNAME:EEST
END:DAYLIGHT
END:VTIMEZONE
END:VCALENDAR