BEGIN:VCALENDAR
VERSION:2.0
PRODID:-//wp-events-plugin.com//7.0.4//EN
BEGIN:VEVENT
UID:205@beyrouth-accueil.com
DTSTART;TZID=Asia/Beirut:20250912T100000
DTEND;TZID=Asia/Beirut:20250912T120000
DTSTAMP:20250902T151934Z
URL:https://beyrouth-accueil.com/events/cafe-daccueil-nouveaux-arrivants-v
 endredi-12-septembre-2025/
SUMMARY:Café d'accueil Nouveaux Arrivants - vendredi 12 septembre 2025
DESCRIPTION:&nbsp\;\n\n\n\n\nChères toutes\, chers tous\,\nVous venez d’
 arriver à Beyrouth ? Besoin d’informations ou de conseils pratiques pou
 r vous aider à prendre vos marques ? Venez nous retrouver autour d’un c
 afé pour partager et échanger !\nNous avons le plaisir d'organiser une 
 rencontre pour les nouveaux arrivants à Beyrouth et de vous inviter à un
  café\n le vendredi 12 septembre à partir de 10 heures\npour échanger 
 et partager un moment ensemble.\nNous vous espérons nombreuses et nombreu
 x pour ce café d'accueil !\nCe café d'accueil est exclusivement réserv
 é aux nouveaux arrivants.\nPour vous inscrire\, vous pouvez nous envoyer 
 un email à :\nbeyrouthaccueil@gmail.com\nou nous contacter par téléphon
 e via WhatsApp au :\n+961 81 180 845\nAu plaisir de vous rencontrer et de 
 partager un moment ensemble lors de ce café-rencontres !\nA bientôt !\nL
 e comité de Beyrouth Accueil\n\n\n\n\n&nbsp\;
ATTACH;FMTTYPE=image/jpeg:https://beyrouth-accueil.com/wp-content/uploads/
 2025/07/Capture-decran-2025-07-21-a-14.46.14.png
CATEGORIES:Accueils et convivialité
END:VEVENT
BEGIN:VTIMEZONE
TZID:Asia/Beirut
X-LIC-LOCATION:Asia/Beirut
BEGIN:DAYLIGHT
DTSTART:20250330T010000
TZOFFSETFROM:+0200
TZOFFSETTO:+0300
TZNAME:EEST
END:DAYLIGHT
END:VTIMEZONE
END:VCALENDAR