BEGIN:VCALENDAR
VERSION:2.0
PRODID:-//wp-events-plugin.com//7.0.4//EN
BEGIN:VEVENT
UID:204@beyrouth-accueil.com
DTSTART;TZID=Asia/Beirut:20250626T000000
DTEND;TZID=Asia/Beirut:20250906T000000
DTSTAMP:20250906T094507Z
URL:https://beyrouth-accueil.com/events/bonnes-vacances-a-tres-bientot-en-
 septembre/
SUMMARY:Bonnes Vacances ! À très bientôt en septembre !
DESCRIPTION:Chères adhérentes\, chers adhérents\,\nAlors que la saison t
 ouche à sa fin\, nous tenons à vous adresser un immense merci pour votre
  présence\, votre engagement et votre bonne humeur tout au long de l’an
 née.\n\nGrâce à vous\, notre association a pu vivre de beaux moments\, 
 relever de nouveaux défis et continuer à grandir dans un esprit de convi
 vialité et de partage. Votre participation active et votre enthousiasme s
 ont le moteur de tout ce que nous entreprenons.\n\nNous espérons que cett
 e saison vous a été enrichissante et agréable\, et nous vous donnons re
 ndez-vous très bientôt pour une nouvelle année pleine de projets\, de r
 encontres et d’énergie positive.\n\nBonne continuation à ceux qui part
 ent pour d’autres aventures\n\nBel été à toutes et à tous et bonnes 
 vacances !\n\nAu plaisir de vous retrouver en septembre\, notamment pour l
 e café d'accueil des nouveaux arrivants qui aura lieu le vendredi 12 sept
 embre et le café de rentrée le jeudi 18 septembre !\n\nLe comité de Bey
 routh Accueil
ATTACH;FMTTYPE=image/jpeg:https://beyrouth-accueil.com/wp-content/uploads/
 2025/06/IMG_2364.jpg
CATEGORIES:Accueils et convivialité
END:VEVENT
BEGIN:VTIMEZONE
TZID:Asia/Beirut
X-LIC-LOCATION:Asia/Beirut
BEGIN:DAYLIGHT
DTSTART:20250330T010000
TZOFFSETFROM:+0200
TZOFFSETTO:+0300
TZNAME:EEST
END:DAYLIGHT
END:VTIMEZONE
END:VCALENDAR