BEGIN:VCALENDAR
VERSION:2.0
PRODID:-//wp-events-plugin.com//7.0.4//EN
BEGIN:VEVENT
UID:534@beyrouth-accueil.com
DTSTART;TZID=Asia/Beirut:20260101T110000
DTEND;TZID=Asia/Beirut:20260131T110000
DTSTAMP:20260104T220213Z
URL:https://beyrouth-accueil.com/events/bonne-annee-2026/
SUMMARY:Bonne année 2026 !
DESCRIPTION:
ATTACH;FMTTYPE=image/jpeg:https://beyrouth-accueil.com/wp-content/uploads/
 2026/01/cartes-de-voeux-2026-gratuites-768x512-1.jpg
CATEGORIES:Les rendez-vous annuels
END:VEVENT
BEGIN:VTIMEZONE
TZID:Asia/Beirut
X-LIC-LOCATION:Asia/Beirut
BEGIN:STANDARD
DTSTART:20251025T230000
TZOFFSETFROM:+0300
TZOFFSETTO:+0200
TZNAME:EET
END:STANDARD
END:VTIMEZONE
END:VCALENDAR